BEGIN:VCALENDAR
VERSION:2.0
CALSCALE:GREGORIAN
PRODID:adamgibbons/ics
METHOD:PUBLISH
X-PUBLISHED-TTL:PT1H
BEGIN:VEVENT
UID:21072@offbeat.amsterdam
SUMMARY:The Longest Johns
DTSTAMP:20260422T001714Z
DTSTART:20260917T170000Z
URL:https://offbeat.amsterdam/event/the-longest-johns
GEO:52.3647777;4.881073026725959
LOCATION:Melkweg - Lijnbaansgracht 234A\, 1017 PH Amsterdam
STATUS:CONFIRMED
CATEGORIES:amsterdam-centrum,concert,folk,leidseplein,sea shanties
END:VEVENT
END:VCALENDAR
